BEGIN:VCALENDAR
VERSION:2.0
PRODID:-//East End Community Carers - ECPv6.15.20//NONSGML v1.0//EN
CALSCALE:GREGORIAN
METHOD:PUBLISH
X-ORIGINAL-URL:https://www.eastend-carers.co.uk
X-WR-CALDESC:Events for East End Community Carers
REFRESH-INTERVAL;VALUE=DURATION:PT1H
X-Robots-Tag:noindex
X-PUBLISHED-TTL:PT1H
BEGIN:VTIMEZONE
TZID:Europe/London
BEGIN:DAYLIGHT
TZOFFSETFROM:+0000
TZOFFSETTO:+0100
TZNAME:BST
DTSTART:20190331T010000
END:DAYLIGHT
BEGIN:STANDARD
TZOFFSETFROM:+0100
TZOFFSETTO:+0000
TZNAME:GMT
DTSTART:20191027T010000
END:STANDARD
BEGIN:DAYLIGHT
TZOFFSETFROM:+0000
TZOFFSETTO:+0100
TZNAME:BST
DTSTART:20200329T010000
END:DAYLIGHT
BEGIN:STANDARD
TZOFFSETFROM:+0100
TZOFFSETTO:+0000
TZNAME:GMT
DTSTART:20201025T010000
END:STANDARD
BEGIN:DAYLIGHT
TZOFFSETFROM:+0000
TZOFFSETTO:+0100
TZNAME:BST
DTSTART:20210328T010000
END:DAYLIGHT
BEGIN:STANDARD
TZOFFSETFROM:+0100
TZOFFSETTO:+0000
TZNAME:GMT
DTSTART:20211031T010000
END:STANDARD
END:VTIMEZONE
BEGIN:VEVENT
DTSTART;TZID=Europe/London:20201123T180000
DTEND;TZID=Europe/London:20201123T200000
DTSTAMP:20260420T092913
CREATED:20200505T123109Z
LAST-MODIFIED:20200505T123109Z
UID:743-1606154400-1606161600@www.eastend-carers.co.uk
SUMMARY:Carer Evening Group - temporarily suspended due to COVID-19
DESCRIPTION:Please note\, occasionally we may need to reschedule dates. Please check before visiting if you are unsure. \nFor further information\, please contact Adrienne Cunningham\, on 0141 764 0550.
URL:https://www.eastend-carers.co.uk/event/carer-evening-group-2-2-2-2-2-2/
LOCATION:Glasgow East End Community Carers\, Academy House\, 1346 Shettleston Road\,\, Glasgow\, G32 9AT\, United Kingdom
CATEGORIES:Carer Evening Group
ATTACH;FMTTYPE=image/jpeg:https://www.eastend-carers.co.uk/wp-content/uploads/2020/04/GEECC-Post-Suspended.jpg
END:VEVENT
BEGIN:VEVENT
DTSTART;TZID=Europe/London:20201026T180000
DTEND;TZID=Europe/London:20201026T200000
DTSTAMP:20260420T092913
CREATED:20200505T123018Z
LAST-MODIFIED:20200505T123018Z
UID:741-1603735200-1603742400@www.eastend-carers.co.uk
SUMMARY:Carer Evening Group - temporarily suspended due to COVID-19
DESCRIPTION:Please note\, occasionally we may need to reschedule dates. Please check before visiting if you are unsure. \nFor further information\, please contact Adrienne Cunningham\, on 0141 764 0550.
URL:https://www.eastend-carers.co.uk/event/carer-evening-group-2-2-2-2-2/
LOCATION:Glasgow East End Community Carers\, Academy House\, 1346 Shettleston Road\,\, Glasgow\, G32 9AT\, United Kingdom
CATEGORIES:Carer Evening Group
ATTACH;FMTTYPE=image/jpeg:https://www.eastend-carers.co.uk/wp-content/uploads/2020/04/GEECC-Post-Suspended.jpg
END:VEVENT
BEGIN:VEVENT
DTSTART;TZID=Europe/London:20201005T180000
DTEND;TZID=Europe/London:20201005T200000
DTSTAMP:20260420T092913
CREATED:20200505T122921Z
LAST-MODIFIED:20200505T122921Z
UID:739-1601920800-1601928000@www.eastend-carers.co.uk
SUMMARY:Carer Evening Group - temporarily suspended due to COVID-19
DESCRIPTION:Please note\, occasionally we may need to reschedule dates. Please check before visiting if you are unsure. \nFor further information\, please contact Adrienne Cunningham\, on 0141 764 0550.
URL:https://www.eastend-carers.co.uk/event/carer-evening-group-2-2-2-2/
LOCATION:Glasgow East End Community Carers\, Academy House\, 1346 Shettleston Road\,\, Glasgow\, G32 9AT\, United Kingdom
CATEGORIES:Carer Evening Group
ATTACH;FMTTYPE=image/jpeg:https://www.eastend-carers.co.uk/wp-content/uploads/2020/04/GEECC-Post-Suspended.jpg
END:VEVENT
BEGIN:VEVENT
DTSTART;TZID=Europe/London:20200824T180000
DTEND;TZID=Europe/London:20200824T200000
DTSTAMP:20260420T092913
CREATED:20200505T122811Z
LAST-MODIFIED:20200505T122811Z
UID:737-1598292000-1598299200@www.eastend-carers.co.uk
SUMMARY:Carer Evening Group - temporarily suspended due to COVID-19
DESCRIPTION:Please note\, occasionally we may need to reschedule dates. Please check before visiting if you are unsure. \nFor further information\, please contact Adrienne Cunningham\, on 0141 764 0550.
URL:https://www.eastend-carers.co.uk/event/carer-evening-group-2-2-2/
LOCATION:Glasgow East End Community Carers\, Academy House\, 1346 Shettleston Road\,\, Glasgow\, G32 9AT\, United Kingdom
CATEGORIES:Carer Evening Group
ATTACH;FMTTYPE=image/jpeg:https://www.eastend-carers.co.uk/wp-content/uploads/2020/04/GEECC-Post-Suspended.jpg
END:VEVENT
BEGIN:VEVENT
DTSTART;TZID=Europe/London:20200727T180000
DTEND;TZID=Europe/London:20200727T200000
DTSTAMP:20260420T092913
CREATED:20200505T122714Z
LAST-MODIFIED:20200505T122714Z
UID:735-1595872800-1595880000@www.eastend-carers.co.uk
SUMMARY:Carer Evening Group - temporarily suspended due to COVID-19
DESCRIPTION:Please note\, occasionally we may need to reschedule dates. Please check before visiting if you are unsure. \nFor further information\, please contact Adrienne Cunningham\, on 0141 764 0550.
URL:https://www.eastend-carers.co.uk/event/carer-evening-group-2-2/
LOCATION:Glasgow East End Community Carers\, Academy House\, 1346 Shettleston Road\,\, Glasgow\, G32 9AT\, United Kingdom
CATEGORIES:Carer Evening Group
ATTACH;FMTTYPE=image/jpeg:https://www.eastend-carers.co.uk/wp-content/uploads/2020/04/GEECC-Post-Suspended.jpg
END:VEVENT
BEGIN:VEVENT
DTSTART;TZID=Europe/London:20200630T180000
DTEND;TZID=Europe/London:20200630T200000
DTSTAMP:20260420T092913
CREATED:20200505T122621Z
LAST-MODIFIED:20200505T122621Z
UID:733-1593540000-1593547200@www.eastend-carers.co.uk
SUMMARY:Carer Evening Group (Tuesday) - temporarily suspended due to COVID-19
DESCRIPTION:Please note\, occasionally we may need to reschedule dates. Please check before visiting if you are unsure. \nFor further information\, please contact Adrienne Cunningham\, on 0141 764 0550.
URL:https://www.eastend-carers.co.uk/event/carer-evening-group-2/
LOCATION:Glasgow East End Community Carers\, Academy House\, 1346 Shettleston Road\,\, Glasgow\, G32 9AT\, United Kingdom
CATEGORIES:Carer Evening Group
ATTACH;FMTTYPE=image/jpeg:https://www.eastend-carers.co.uk/wp-content/uploads/2020/04/GEECC-Post-Suspended.jpg
END:VEVENT
BEGIN:VEVENT
DTSTART;TZID=Europe/London:20200601T180000
DTEND;TZID=Europe/London:20200601T200000
DTSTAMP:20260420T092913
CREATED:20200505T122447Z
LAST-MODIFIED:20200505T122518Z
UID:731-1591034400-1591041600@www.eastend-carers.co.uk
SUMMARY:Carer Evening Group - temporarily suspended due to COVID-19
DESCRIPTION:Please note\, occasionally we may need to reschedule dates. Please check before visiting if you are unsure. \nFor further information\, please contact Adrienne Cunningham\, on 0141 764 0550.
URL:https://www.eastend-carers.co.uk/event/carer-evening-group/
LOCATION:Glasgow East End Community Carers\, Academy House\, 1346 Shettleston Road\,\, Glasgow\, G32 9AT\, United Kingdom
CATEGORIES:Carer Evening Group
ATTACH;FMTTYPE=image/jpeg:https://www.eastend-carers.co.uk/wp-content/uploads/2020/04/GEECC-Post-Suspended.jpg
END:VEVENT
END:VCALENDAR